BEGIN:VCALENDAR
VERSION:2.0
PRODID:-//Tukios.com/
BEGIN:VEVENT
UID:a324b86a-be27-426c-8357-010b9531b54a@www.newcomerrochester.com
DTSTAMP:20260420T165841Z
DTSTART:20260428T200000Z
DTEND:20260428T230000Z
SUMMARY:Visitation
DESCRIPTION:
URL:https://www.newcomerrochester.com/obituaries/ana-astudillo
LOCATION: 2636 Ridgeway Avenue  Rochester NY 14626
GEO:43.1872699;-77.703579
END:VEVENT
END:VCALENDAR