BEGIN:VCALENDAR
VERSION:2.0
PRODID:-//Tukios.com/
BEGIN:VEVENT
UID:d24b0409-6a81-4a8e-bb0b-4b6e5c58228c@www.newcomerrochester.com
DTSTAMP:20260420T170445Z
DTSTART:20260429T133000Z
DTEND:20260429T143000Z
SUMMARY:Mass
DESCRIPTION:
URL:https://www.newcomerrochester.com/obituaries/ana-astudillo
LOCATION: 296 Flower City Park  Rochester NY 14615
GEO:43.1931637;-77.632692
END:VEVENT
END:VCALENDAR