BEGIN:VCALENDAR
VERSION:2.0
PRODID:-//Tukios.com/
BEGIN:VEVENT
UID:653fa20f-4626-4bad-9f3e-7728bb43eb7e@www.newcomerrochester.com
DTSTAMP:20260420T214219Z
DTSTART:20260422T200000Z
DTEND:20260422T230000Z
SUMMARY:Visitation
DESCRIPTION:
URL:https://www.newcomerrochester.com/obituaries/elizabeth-conde
LOCATION:New Comer Cremations & Funerals 6 Empire Boulevard  Rochester NY 
	14609
GEO:43.1767517;-77.5570334
END:VEVENT
END:VCALENDAR