BEGIN:VCALENDAR
VERSION:2.0
PRODID:-//Tukios.com/
BEGIN:VEVENT
UID:17d84aec-f8ee-4b85-ae3f-a74c7fd25755@www.newcomerrochester.com
DTSTAMP:20260420T214051Z
DTSTART:20260422T230000Z
DTEND:20260423T000000Z
SUMMARY:Funeral Service
DESCRIPTION:
URL:https://www.newcomerrochester.com/obituaries/elizabeth-conde
LOCATION:New Comer Cremations & Funerals 6 Empire Boulevard  Rochester NY 
	14609
GEO:43.1767517;-77.5570334
END:VEVENT
END:VCALENDAR