BEGIN:VCALENDAR
VERSION:2.0
PRODID:-//Tukios.com/
BEGIN:VEVENT
UID:12c4a71f-7b8a-420f-93b1-bdefbacb57de@www.newcomerrochester.com
DTSTAMP:20260422T154447Z
DTSTART:20260424T200000Z
DTEND:20260424T220000Z
SUMMARY:Visitation
DESCRIPTION:
URL:https://www.newcomerrochester.com/obituaries/fernando-gonzalez-sr
LOCATION:Newcomer Funeral Home 2636 Ridgeway Avenue  Rochester NY 14626
GEO:43.1872699;-77.703579
END:VEVENT
END:VCALENDAR