BEGIN:VCALENDAR
VERSION:2.0
PRODID:-//Tukios.com/
BEGIN:VEVENT
UID:d086b81f-ab47-4ee0-9706-b06df4aeae10@www.newcomerrochester.com
DTSTAMP:20260422T153717Z
DTSTART:20260424T220000Z
DTEND:20260424T230000Z
SUMMARY:Funeral Service
DESCRIPTION:
URL:https://www.newcomerrochester.com/obituaries/fernando-gonzalez-sr
LOCATION:Newcomer Funeral Home 2636 Ridgeway Avenue  Rochester NY 14626
GEO:43.1872699;-77.703579
END:VEVENT
END:VCALENDAR