BEGIN:VCALENDAR
VERSION:2.0
PRODID:-//Tukios.com/
BEGIN:VEVENT
UID:9df1c440-f644-4722-abea-5f8e2b69251b@www.newcomerrochester.com
DTSTAMP:20260422T154405Z
DTSTART:20260427T150000Z
DTEND:20260427T160000Z
SUMMARY:Interment
DESCRIPTION:
URL:https://www.newcomerrochester.com/obituaries/fernando-gonzalez-sr
LOCATION:Riverside Cemetery 2650 Lake Avenue  Rochester NY 14612
GEO:43.2169162;-77.6290074
END:VEVENT
END:VCALENDAR