BEGIN:VCALENDAR
VERSION:2.0
PRODID:-//Tukios.com/
BEGIN:VEVENT
UID:516069c1-feea-4ac9-b300-85a841bc7c3c@www.newcomerrochester.com
DTSTAMP:20260422T002045Z
DTSTART:20260429T150000Z
DTEND:20260429T160000Z
SUMMARY:Mass
DESCRIPTION:
URL:https://www.newcomerrochester.com/obituaries/frank-maenza
LOCATION: 4100 Lyell Rd  Rochester NY 14606
GEO:43.1663442;-77.7382775
END:VEVENT
END:VCALENDAR