BEGIN:VCALENDAR
VERSION:2.0
PRODID:-//Tukios.com/
BEGIN:VEVENT
UID:86dfea0a-ce58-4547-9908-0237980f1543@www.newcomerrochester.com
DTSTAMP:20260422T001610Z
DTSTART:20260429T163000Z
DTEND:20260429T173000Z
SUMMARY:Inurnment
DESCRIPTION:
URL:https://www.newcomerrochester.com/obituaries/frank-maenza
LOCATION:  Lake Avenue  Rochester NY 
GEO:43.211662;-77.6298212
END:VEVENT
END:VCALENDAR