BEGIN:VCALENDAR
VERSION:2.0
PRODID:-//Tukios.com/
BEGIN:VEVENT
UID:43dd0c14-c8e2-4c0f-b976-e486df6e5d4f@www.newcomerrochester.com
DTSTAMP:20260421T002812Z
DTSTART:20260428T153000Z
DTEND:20260428T163000Z
SUMMARY:Graveside Service & Military Honors
DESCRIPTION:
URL:https://www.newcomerrochester.com/obituaries/gary-detaeye
LOCATION: Lake Avenue  Rochester NY 14612
GEO:43.232734;-77.625253
END:VEVENT
END:VCALENDAR