BEGIN:VCALENDAR
VERSION:2.0
PRODID:-//Tukios.com/
BEGIN:VEVENT
UID:706fabf8-1650-463e-9629-eb697b4d2756@www.newcomerrochester.com
DTSTAMP:20260424T222300Z
DTSTART:20260430T190000Z
DTEND:20260430T220000Z
SUMMARY:Visitation
DESCRIPTION:
URL:https://www.newcomerrochester.com/obituaries/michael-stupia
LOCATION:New Comer Funeral Home, Westside 2636 Ridgeway Ave  Rochester NY 
	14626
GEO:43.1872699;-77.703579
END:VEVENT
END:VCALENDAR