BEGIN:VCALENDAR
VERSION:2.0
PRODID:-//Tukios.com/
BEGIN:VEVENT
UID:cb8ac5f6-2478-478f-873b-df060881bed3@www.newcomerrochester.com
DTSTAMP:20260424T222821Z
DTSTART:20260430T220000Z
DTEND:20260430T230000Z
SUMMARY:Military Honors & Funeral Service
DESCRIPTION:
URL:https://www.newcomerrochester.com/obituaries/michael-stupia
LOCATION: 2636 Ridgeway Ave  Rochester NY 14626
GEO:43.1872699;-77.703579
END:VEVENT
END:VCALENDAR