BEGIN:VCALENDAR
VERSION:2.0
PRODID:-//Tukios.com/
BEGIN:VEVENT
UID:f07f4419-0898-4a2b-a7d4-2a244756e887@www.newcomerrochester.com
DTSTAMP:20260419T172018Z
DTSTART:20260425T140000Z
DTEND:20260425T150000Z
SUMMARY:Mass
DESCRIPTION:
URL:https://www.newcomerrochester.com/obituaries/paul-brophy
LOCATION:Church of the Assumption 20 East Avenue  Fairport NY 14450
GEO:43.1051708;-77.4404534
END:VEVENT
END:VCALENDAR