BEGIN:VCALENDAR
VERSION:2.0
PRODID:-//Tukios.com/
BEGIN:VEVENT
UID:d03bec41-e489-4f99-8354-6069a4e5ff7a@www.newcomerrochester.com
DTSTAMP:20260422T161841Z
DTSTART:20260504T143000Z
DTEND:20260504T153000Z
SUMMARY:Mass
DESCRIPTION:
URL:https://www.newcomerrochester.com/obituaries/phyllis-pompa
LOCATION:Holy Trinity Church 1460 Ridge Rd  Webster NY 14580
GEO:43.215437;-77.4156506
END:VEVENT
END:VCALENDAR