BEGIN:VCALENDAR
VERSION:2.0
PRODID:-//Tukios.com/
BEGIN:VEVENT
UID:6c4e4826-090f-48e6-97d5-cb66a6aa313f@www.newcomerrochester.com
DTSTAMP:20260422T161652Z
DTSTART:20260504T160000Z
DTEND:20260504T170000Z
SUMMARY:Burial
DESCRIPTION:
URL:https://www.newcomerrochester.com/obituaries/phyllis-pompa
LOCATION: Lake Avenue  Rochester NY 14612
GEO:43.232734;-77.625253
END:VEVENT
END:VCALENDAR