BEGIN:VCALENDAR
VERSION:2.0
PRODID:-//Tukios.com/
BEGIN:VEVENT
UID:75b89a82-2349-4f7b-a66c-64c310ddf7fd@www.newcomerrochester.com
DTSTAMP:20260424T192541Z
DTSTART:20260429T200000Z
DTEND:20260429T230000Z
SUMMARY:Visitation with Family
DESCRIPTION:
URL:https://www.newcomerrochester.com/obituaries/phyllis-rabita-bonanno-diliberto
LOCATION: 6 Empire Blvd  Rochester NY 14609
GEO:43.1767517;-77.5570334
END:VEVENT
END:VCALENDAR