BEGIN:VCALENDAR
VERSION:2.0
PRODID:-//Tukios.com/
BEGIN:VEVENT
UID:17e0c078-2de6-4c37-808e-2d6f99182ce9@www.newcomerrochester.com
DTSTAMP:20260424T193318Z
DTSTART:20260430T150000Z
DTEND:20260430T160000Z
SUMMARY:Mass
DESCRIPTION:
URL:https://www.newcomerrochester.com/obituaries/phyllis-rabita-bonanno-diliberto
LOCATION:St. Ambrose Church, Peace of Christ Parish 25 Empire Blvd  
	Rochester NY 14609
GEO:43.1758197;-77.5570684
END:VEVENT
END:VCALENDAR