BEGIN:VCALENDAR
VERSION:2.0
PRODID:-//Tukios.com/
BEGIN:VEVENT
UID:8efca419-68f1-41a2-b29d-6ee1de70e620@www.newcomerrochester.com
DTSTAMP:20260424T192710Z
DTSTART:20260430
SUMMARY:Burial
DESCRIPTION:
URL:https://www.newcomerrochester.com/obituaries/phyllis-rabita-bonanno-diliberto
LOCATION:White Haven Memorial Park 210 Marsh Rd  Pittsford NY 14534
GEO:43.0964634;-77.4802353
END:VEVENT
END:VCALENDAR