BEGIN:VCALENDAR
VERSION:2.0
PRODID:-//Tukios.com/
BEGIN:VEVENT
UID:d6009b0b-2cf3-4255-8141-eb10ba94f10a@www.newcomerrochester.com
DTSTAMP:20260423T223014Z
DTSTART:20260507T180000Z
DTEND:20260507T190000Z
SUMMARY:Burial
DESCRIPTION:
URL:https://www.newcomerrochester.com/obituaries/raul-fernandez
LOCATION:Western New York National Cemetery 1254 Indian Falls Rd  Corfu 
	NY 14036
GEO:43.0192615;-78.3988215
END:VEVENT
END:VCALENDAR