BEGIN:VCALENDAR
VERSION:2.0
PRODID:-//Tukios.com/
BEGIN:VEVENT
UID:f0c54120-28cd-4949-bdd7-f9eaab12ee59@www.newcomerrochester.com
DTSTAMP:20260425T230834Z
DTSTART:20260428T173000Z
DTEND:20260428T183000Z
SUMMARY:Graveside Service
DESCRIPTION:
URL:https://www.newcomerrochester.com/obituaries/todd-kerkman
LOCATION: 210 Marsh Road  Pittsford NY 14534
GEO:43.0955363;-77.4807955
END:VEVENT
END:VCALENDAR